BEGIN:VCALENDAR
VERSION:2.0
PRODID:icalendar-ruby
CALSCALE:GREGORIAN
METHOD:PUBLISH
BEGIN:VEVENT
DTSTAMP:20260421T120149Z
UID:140-1172771@marshesof.tithelysetup5.com
DTSTART:20260513T180000Z
DTEND:20260513T190000Z
CLASS:PUBLIC
CREATED:20260113T110940
DESCRIPTION:The second Wednesday of every month\nSee Mr. Harold T. for more
  information
LAST-MODIFIED:20260113T110940
LOCATION:890 Scranton Road\, Brunswick\, GA 31525
SUMMARY:Addington Place Bible Study
URL;VALUE=URI:https://marshesof.tithelysetup5.com/events/addington-place-bi
 ble-study/2026-05-13
ATTACH;FILENAME=F0LI0.jpg;FMTTYPE=image/jpeg:https://dq5pwpg1q8ru0.cloudfro
 nt.net/2026/01/13/15/55/57/91047c62-f383-4526-8a7c-73d2b5fd8eb9/F0LI0.jpg
END:VEVENT
END:VCALENDAR
