BEGIN:VCALENDAR
VERSION:2.0
PRODID:icalendar-ruby
CALSCALE:GREGORIAN
METHOD:PUBLISH
BEGIN:VEVENT
DTSTAMP:20260421T080619Z
UID:101-1124842@marshesof.tithelysetup5.com
DTSTART:20260405T143000Z
DTEND:20260405T153000Z
CLASS:PUBLIC
CREATED:20260107T110152
DESCRIPTION:On Easter Sunday\, we will gather in joyful celebration of Chri
 st’s resurrection and the victory of life over death. This special servi
 ce will be filled with worship\, prayer\, and a message proclaiming the ho
 pe we have in Jesus. As we rejoice together\, we will reflect on the power
  of the empty tomb and the promise of new life. All are welcome to join as
  we lift our voices in praise\, declaring that He is risen indeed!
LAST-MODIFIED:20260107T110152
LOCATION:Worship Center
SUMMARY:Easter Service
URL;VALUE=URI:https://marshesof.tithelysetup5.com/events/easter-service/202
 6-04-05
ATTACH;FILENAME=FSV2K.jpg;FMTTYPE=image/jpeg:https://dq5pwpg1q8ru0.cloudfro
 nt.net/2025/03/12/16/58/22/d5f3bf99-f551-47f1-926f-62d0354e2e01/FSV2K.jpg
END:VEVENT
END:VCALENDAR
