BEGIN:VCALENDAR
VERSION:2.0
PRODID:icalendar-ruby
CALSCALE:GREGORIAN
METHOD:PUBLISH
BEGIN:VEVENT
DTSTAMP:20260422T211911Z
UID:151-2033425@marshesof.tithelysetup5.com
DTSTART:20260509T143000Z
DTEND:20260509T163000Z
CLASS:PUBLIC
CREATED:20260422T131738
DESCRIPTION:Join Marshes of Glynn in celebrating moms with a Family Tea Par
 ty. There will be tea\, snacks\, games\, door prizes and fun for the whole
  family.
LAST-MODIFIED:20260422T131738
LOCATION:Family Life Center
SUMMARY:Family Tea Party
URL;VALUE=URI:https://marshesof.tithelysetup5.com/events/family-tea-party/2
 026-05-09
ATTACH;FILENAME=family-tea-party-slide.jpg;FMTTYPE=image/jpeg:https://dq5pw
 pg1q8ru0.cloudfront.net/2026/04/22/17/17/38/2c8bb016-e6cb-4a31-a9ad-13d6c0
 ef4338/family-tea-party-slide.jpg
END:VEVENT
END:VCALENDAR
