BEGIN:VCALENDAR
VERSION:2.0
PRODID:icalendar-ruby
CALSCALE:GREGORIAN
METHOD:PUBLISH
BEGIN:VEVENT
DTSTAMP:20260421T081526Z
UID:82-1527651@marshesof.tithelysetup5.com
DTSTART:20260315T220000Z
DTEND:20260315T230000Z
CLASS:PUBLIC
CREATED:20260225T090106
DESCRIPTION:
LAST-MODIFIED:20260225T090106
LOCATION:
SUMMARY:No Sunday Evening Bible Study
URL;VALUE=URI:https://marshesof.tithelysetup5.com/events/no-sunday-evening-
 bible-study/2026-03-15
ATTACH;FILENAME=dbZX.jpg;FMTTYPE=image/jpeg:https://dq5pwpg1q8ru0.cloudfron
 t.net/2024/11/20/14/10/10/47068e9e-a597-4be9-93dd-854865ca2b2f/dbZX.jpg
END:VEVENT
END:VCALENDAR
