BEGIN:VCALENDAR
VERSION:2.0
PRODID:icalendar-ruby
CALSCALE:GREGORIAN
METHOD:PUBLISH
BEGIN:VEVENT
DTSTAMP:20260422T005007Z
UID:7-2029441@marshesof.tithelysetup5.com
DTSTART:20261025T220000Z
DTEND:20261025T230000Z
CLASS:PUBLIC
CREATED:20260421T204210
DESCRIPTION:
LAST-MODIFIED:20260421T204210
LOCATION:Worship Center
SUMMARY:Sunday Evening Bible Study
URL;VALUE=URI:https://marshesof.tithelysetup5.com/events/sunday-evening-bib
 le-study/2026-10-25
ATTACH;FILENAME=EgsE.jpg;FMTTYPE=image/jpeg:https://dq5pwpg1q8ru0.cloudfron
 t.net/2023/01/18/05/17/54/2e2bbdc6-ce63-4e5d-b98f-ac084d830ac4/EgsE.jpg
END:VEVENT
END:VCALENDAR
